BEGIN:VCALENDAR
VERSION:2.0
PRODID:-//School of Biology and Ecology - ECPv6.15.17.1//NONSGML v1.0//EN
CALSCALE:GREGORIAN
METHOD:PUBLISH
X-WR-CALNAME:School of Biology and Ecology
X-ORIGINAL-URL:https://sbe.umaine.edu
X-WR-CALDESC:Events for School of Biology and Ecology
REFRESH-INTERVAL;VALUE=DURATION:PT1H
X-Robots-Tag:noindex
X-PUBLISHED-TTL:PT1H
BEGIN:VTIMEZONE
TZID:America/New_York
BEGIN:DAYLIGHT
TZOFFSETFROM:-0500
TZOFFSETTO:-0400
TZNAME:EDT
DTSTART:20240310T070000
END:DAYLIGHT
BEGIN:STANDARD
TZOFFSETFROM:-0400
TZOFFSETTO:-0500
TZNAME:EST
DTSTART:20241103T060000
END:STANDARD
BEGIN:DAYLIGHT
TZOFFSETFROM:-0500
TZOFFSETTO:-0400
TZNAME:EDT
DTSTART:20250309T070000
END:DAYLIGHT
BEGIN:STANDARD
TZOFFSETFROM:-0400
TZOFFSETTO:-0500
TZNAME:EST
DTSTART:20251102T060000
END:STANDARD
BEGIN:DAYLIGHT
TZOFFSETFROM:-0500
TZOFFSETTO:-0400
TZNAME:EDT
DTSTART:20260308T070000
END:DAYLIGHT
BEGIN:STANDARD
TZOFFSETFROM:-0400
TZOFFSETTO:-0500
TZNAME:EST
DTSTART:20261101T060000
END:STANDARD
END:VTIMEZONE
BEGIN:VEVENT
DTSTART;TZID=America/New_York:20250414T140000
DTEND;TZID=America/New_York:20250414T160000
DTSTAMP:20260419T194756
CREATED:20250410T130043Z
LAST-MODIFIED:20250410T130400Z
UID:12376-1744639200-1744646400@sbe.umaine.edu
SUMMARY:MS Thesis Defense: Shehnaz Munnaf Chowdhury
DESCRIPTION:Shehnaz Munnaf Chowdhury MS Thesis Defense \nTitle: Assessing the overwintering and impact of augmentorium on populations of the Samba Wasp (Ganaspis Kimorum) in Maine \nDate: April 14 \nLocation: Nutting Hall 204 \nTime: 2-4PM \nAdvisor: Dr. Philip Fanning \nZoom: : https://maine.zoom.us/j/83876656215?pwd=hPEw2R7VjwXWfuKIMOM6q3rxoQIxAx.1\nPassword: 857446
URL:https://sbe.umaine.edu/event/ms-thesis-defense-shehnaz-munnaf-chowdhury/
LOCATION:204 Nutting\, 2755 Nutting Hall\, Orono\, 04469\, United States
CATEGORIES:SBE Thesis Defense
END:VEVENT
END:VCALENDAR